Workbook

Sheet School scores session 1
A1: School Points | B1: Birchington | C1: Bromstone | D1: Chilton | E1: Garlinge | F1: Haddon Dene | G1: Minster | H1: Palm Bay | I1: St Gregorys | J1: St Joseph's | K1: St Laurence | L1: St Lawrence | M1: St Nicholas | N1: St Peters | O1: St Saviours | P1: Upton | Q1: Wellesley House
A2: EVENT 16 FINAL OF EVENT 1 Mixed 4 x 1 Medley Team | F2: 4 | G2: 6 | H2: 5 | L2: 2 | O2: 1 | P2: 3 | R2: =SUM(B2:Q2) -> 21
A3: EVENT 17 FINAL OF EVENT 2 Girls 08/09 Yrs 100m IM | F3: 5 | J3: 4 | P3: 6 | R3: =SUM(B3:Q3) -> 15 | S3: 3 swimmers
A4: EVENT 18 FINAL OF EVENT 3 Boys 08/09 Yrs 100m IM | F4: 5 | G4: 6 | P4: 4 | R4: =SUM(B4:Q4) -> 15 | S4: 3 swimmers
A5: EVENT 19 FINAL OF EVENT 4 Girls 08/09 Yrs 25m Freestyle | B5: 6 | E5: 1 | G5: 3 | H5: 4 | O5: 5 | P5: 2 | R5: =SUM(B5:Q5) -> 21
A6: EVENT 20 FINAL OF EVENT 5 Boys 08/09 Yrs 25m Freestyle | D6: 6 | F6: 2.5 | H6: 2.5 | L6: 5 | N6: 4 | O6: 1 | R6: =SUM(B6:Q6) -> 21
A7: EVENT 21 FINAL OF EVENT 6 Girls 08/09 Yrs 25m Backstroke | B7: 4 | D7: 1 | G7: 6 | N7: 3 | O7: 2 | P7: 5 | R7: =SUM(B7:Q7) -> 21
A8: EVENT 22 FINAL OF EVENT 7 Boys 08/09 Yrs 25m Backstroke | F8: 3 | G8: 4 | J8: 1 | L8: 5 | O8: 6 | P8: 2 | R8: =SUM(B8:Q8) -> 21
A9: EVENT 23 FINAL OF EVENT 8 Girls 08/09 Yrs 25m Breaststroke | B9: 4 | D9: 1 | H9: 6 | L9: 5 | O9: 3 | P9: 2 | R9: =SUM(B9:Q9) -> 21
A10: EVENT 24 FINAL OF EVENT 9 Boys 08/09 Yrs 25m Breaststroke | F10: 2 | H10: 6 | L10: 4 | O10: 5 | P10: 1 | Q10: 3 | R10: =SUM(B10:Q10) -> 21
A11: EVENT 25 FINAL OF EVENT 10 Girls 08/09 Yrs 25m Butterfly | C11: 5 | H11: 6 | P11: 4 | R11: =SUM(B11:Q11) -> 15 | S11: 3 finishers
A12: EVENT 26 FINAL OF EVENT 11 Boys 08/09 Yrs 25m Butterfly | F12: 4 | G12: 6 | L12: 5 | P12: 3 | R12: =SUM(B12:Q12) -> 18 | S12: 4 finishers
A13: EVENT 27 FINAL OF EVENT 12 Girls 4 x 1 Freestyle Team | C13: 5 | F13: 3 | H13: 4 | O13: 2 | P13: 6 | R13: =SUM(B13:Q13) -> 20
A14: EVENT 28 FINAL OF EVENT 13 Boys 4 x 1 Freestyle Team | D14: 1 | F14: 4 | G14: 5 | L14: 6 | O14: 3 | P14: 2 | R14: =SUM(B14:Q14) -> 21
A15: EVENT 29 FINAL OF EVENT 14 Mixed 4 x 1 Freestyle Team | F15: 5 | G15: 4 | H15: 6 | L15: 2 | O15: 1 | P15: 3 | R15: =SUM(B15:Q15) -> 21
R16: =SUM(B16:Q16) -> 0
A17: Total Points | B17: =SUM(B2:B16) -> 14 | C17: =SUM(C2:C16) -> 10 | D17: =SUM(D2:D16) -> 9 | E17: =SUM(E2:E16) -> 1 | F17: =SUM(F2:F16) -> 37.5 | G17: =SUM(G2:G16) -> 40 | H17: =SUM(H2:H16) -> 39.5 | I17: =SUM(I2:I16) -> 0 | ... Q17: =SUM(Q2:Q16) -> 3
A19: Position: Session 1 | B19: =_xlfn.RANK.EQ(B17,$B$17:$Q$17) -> 7 | C19: =_xlfn.RANK.EQ(C17,$B$17:$Q$17) -> 8 | D19: =_xlfn.RANK.EQ(D17,$B$17:$Q$17) -> 9 | E19: =_xlfn.RANK.EQ(E17,$B$17:$Q$17) -> 13 | F19: =_xlfn.RANK.EQ(F17,$B$17:$Q$17) -> 4 | G19: =_xlfn.RANK.EQ(G17,$B$17:$Q$17) -> 2 | H19: =_xlfn.RANK.EQ(H17,$B$17:$Q$17) -> 3 | I19: =_xlfn.RANK.EQ(I17,$B$17:$Q$17) -> 14 | ... Q19: =_xlfn.RANK.EQ(Q17,$B$17:$Q$17) -> 12
A21: Notes:
A22: If a school has 2 teams in a final only enter the points for highest scoring team from that school
A23: parents race = no points awarded
A24: points are 6 for 1st place, down to 1 point for 6th place
A25: dq = 0 points
A26: in case of dead heat, add up 2 lots of points and divide

Sheet School Scores Session 2
A1: School Points | B1: Birchington | C1: Bromstone | D1: Chilton | E1: Garlinge | F1: Haddon Dene | G1: Minster | H1: Palm Bay | I1: St Gregorys | J1: St Joseph's | K1: St Laurence | L1: St Lawrence | M1: St Nicholas | N1: St Peters | O1: St Saviours | P1: Upton | Q1: Wellesley House
A2: EVENT 45 FINAL OF EVENT 31 Mixed 4 x 1 Medley Team | F2: 6 | G2: 2 | O2: 4 | P2: 5
A3: EVENT 46 FINAL OF EVENT 32 Girls 10/11 Yrs 100m IM | F3: 6 | G3: 4 | J3: 3 | K3: 2 | P3: 5
A4: EVENT 47 FINAL OF EVENT 33 Boys 10/11 Yrs 100m IM | F4: 3 | K4: 5 | O4: 6 | P4: 4
A5: EVENT 48 FINAL OF EVENT 34 Girls 10/11 Yrs 25m Freestyle | B5: 1 | D5: 2 | H5: 5 | L5: 3 | O5: 4 | P5: 6
A6: EVENT 49 FINAL OF EVENT 35 Boys 10/11 Yrs 25m Freestyle | F6: 2 | K6: 3 | L6: 6 | M6: 1 | O6: 5 | P6: 4
A7: EVENT 50 FINAL OF EVENT 36 Girls 10/11 Yrs 25m Backstroke | D7: 3 | F7: 1 | K7: 4 | L7: 5 | O7: 2 | P7: 6
A8: EVENT 51 FINAL OF EVENT 37 Boys 10/11 Yrs 25m Backstroke | D8: 2 | F8: 3 | G8: 1 | H8: 4 | L8: 6 | P8: 5
A9: EVENT 52 FINAL OF EVENT 38 Girls 10/11 Yrs 25m Breaststroke | F9: 6 | H9: 2 | J9: 3 | O9: 5 | P9: 4
A10: EVENT 53 FINAL OF EVENT 39 Boys 10/11 Yrs 25m Breaststroke | F10: 5 | G10: 2 | K10: 1 | L10: 4 | M10: 6 | P10: 3
A11: EVENT 54 FINAL OF EVENT 40 Girls 10/11 Yrs 25m Butterfly | F11: 5 | G11: 3 | H11: 2 | K11: 1 | O11: 6 | P11: 4
A12: EVENT 55 FINAL OF EVENT 41 Boys 10/11 Yrs 25m Butterfly | F12: 2 | J12: 1 | K12: 3 | L12: 4 | O12: 6 | P12: 5
A13: EVENT 56 FINAL OF EVENT 42 Girls 4 x 1 Freestyle Team | F13: 6 | G13: 4 | J13: 1 | O13: 3 | P13: 5
A14: EVENT 57 FINAL OF EVENT 43 Boys 4 x 1 Freestyle Team | K14: 1 | L14: 5 | O14: 4 | P14: 6
A15: EVENT 58 FINAL OF EVENT 44 Mixed 4 x 1 Freestyle Team | F15: 6 | G15: 3 | K15: 4 | O15: 2 | P15: 5
A17: Session 2 - Total Points | B17: =SUM(B2:B16) -> 1 | C17: =SUM(C2:C16) -> 0 | D17: =SUM(D2:D16) -> 7 | E17: =SUM(E2:E16) -> 0 | F17: =SUM(F2:F16) -> 51 | G17: =SUM(G2:G16) -> 19 | H17: =SUM(H2:H16) -> 13 | I17: =SUM(I2:I16) -> 0 | ... Q17: =SUM(Q2:Q16) -> 0
A18: Position for Session 2 only | B18: =_xlfn.RANK.EQ(B17,$B$17:$Q$17) -> 11 | C18: =_xlfn.RANK.EQ(C17,$B$17:$Q$17) -> 12 | D18: =_xlfn.RANK.EQ(D17,$B$17:$Q$17) -> 9 | E18: =_xlfn.RANK.EQ(E17,$B$17:$Q$17) -> 12 | F18: =_xlfn.RANK.EQ(F17,$B$17:$Q$17) -> 2 | G18: =_xlfn.RANK.EQ(G17,$B$17:$Q$17) -> 6 | H18: =_xlfn.RANK.EQ(H17,$B$17:$Q$17) -> 7 | I18: =_xlfn.RANK.EQ(I17,$B$17:$Q$17) -> 12 | ... Q18: =_xlfn.RANK.EQ(Q17,$B$17:$Q$17) -> 12
A21: Session 1 - Total Points Brought forward | B21: =+'School scores session 1'!B17 -> 14 | C21: =+'School scores session 1'!C17 -> 10 | D21: =+'School scores session 1'!D17 -> 9 | E21: =+'School scores session 1'!E17 -> 1 | F21: =+'School scores session 1'!F17 -> 37.5 | G21: =+'School scores session 1'!G17 -> 40 | H21: =+'School scores session 1'!H17 -> 39.5 | I21: =+'School scores session 1'!I17 -> 0 | ... Q21: =+'School scores session 1'!Q17 -> 3
A23: Overall Thanet Schools Points after both sessions | B23: =+B17+B21 -> 15 | C23: =+C17+C21 -> 10 | D23: =+D17+D21 -> 16 | E23: =+E17+E21 -> 1 | F23: =+F17+F21 -> 88.5 | G23: =+G17+G21 -> 59 | H23: =+H17+H21 -> 52.5 | I23: =+I17+I21 -> 0 | ... Q23: =+Q17+Q21 -> 3
A24: Overall Position for Primary Schools Gala | B24: =_xlfn.RANK.EQ(B23,$B$23:$Q$23) -> 9 | C24: =_xlfn.RANK.EQ(C23,$B$23:$Q$23) -> 11 | D24: =_xlfn.RANK.EQ(D23,$B$23:$Q$23) -> 8 | E24: =_xlfn.RANK.EQ(E23,$B$23:$Q$23) -> 15 | F24: =_xlfn.RANK.EQ(F23,$B$23:$Q$23) -> 2 | G24: =_xlfn.RANK.EQ(G23,$B$23:$Q$23) -> 5 | H24: =_xlfn.RANK.EQ(H23,$B$23:$Q$23) -> 6 | I24: =_xlfn.RANK.EQ(I23,$B$23:$Q$23) -> 16 | ... Q24: =_xlfn.RANK.EQ(Q23,$B$23:$Q$23) -> 14
